BEGIN:VCALENDAR
VERSION:2.0
PRODID:-//Tide Baton - ECPv6.15.17//NONSGML v1.0//EN
CALSCALE:GREGORIAN
METHOD:PUBLISH
X-WR-CALNAME:Tide Baton
X-ORIGINAL-URL:https://tidebatontwirling.com
X-WR-CALDESC:Events for Tide Baton
REFRESH-INTERVAL;VALUE=DURATION:PT1H
X-Robots-Tag:noindex
X-PUBLISHED-TTL:PT1H
BEGIN:VTIMEZONE
TZID:America/Los_Angeles
BEGIN:DAYLIGHT
TZOFFSETFROM:-0800
TZOFFSETTO:-0700
TZNAME:PDT
DTSTART:20220313T100000
END:DAYLIGHT
BEGIN:STANDARD
TZOFFSETFROM:-0700
TZOFFSETTO:-0800
TZNAME:PST
DTSTART:20221106T090000
END:STANDARD
BEGIN:DAYLIGHT
TZOFFSETFROM:-0800
TZOFFSETTO:-0700
TZNAME:PDT
DTSTART:20230312T100000
END:DAYLIGHT
BEGIN:STANDARD
TZOFFSETFROM:-0700
TZOFFSETTO:-0800
TZNAME:PST
DTSTART:20231105T090000
END:STANDARD
BEGIN:DAYLIGHT
TZOFFSETFROM:-0800
TZOFFSETTO:-0700
TZNAME:PDT
DTSTART:20240310T100000
END:DAYLIGHT
BEGIN:STANDARD
TZOFFSETFROM:-0700
TZOFFSETTO:-0800
TZNAME:PST
DTSTART:20241103T090000
END:STANDARD
END:VTIMEZONE
BEGIN:VEVENT
DTSTART;VALUE=DATE:20230626
DTEND;VALUE=DATE:20230702
DTSTAMP:20260422T050254
CREATED:20230419T201956Z
LAST-MODIFIED:20230419T201956Z
UID:1174-1687737600-1688255999@tidebatontwirling.com
SUMMARY:6 Day Summer Camp
DESCRIPTION:
URL:https://tidebatontwirling.com/event/6-day-summer-camp/
CATEGORIES:Camp Schedule
END:VEVENT
BEGIN:VEVENT
DTSTART;VALUE=DATE:20230724
DTEND;VALUE=DATE:20230728
DTSTAMP:20260422T050254
CREATED:20230721T181457Z
LAST-MODIFIED:20230721T181559Z
UID:1255-1690156800-1690502399@tidebatontwirling.com
SUMMARY:AYOP Baton Twirling Nationals\, Univ Notre Dame
DESCRIPTION:America’s Youth on Parade\, Baton Twirling Nationals\, South Bend\, IN – University of Notre Dame
URL:https://tidebatontwirling.com/event/ayop-baton-twirling-nationals-univ-notre-dame/
CATEGORIES:Camp Schedule,Contest
ATTACH;FMTTYPE=image/jpeg:https://tidebatontwirling.com/wp-content/uploads/2023/07/AYOP1.jpg
END:VEVENT
END:VCALENDAR